BEGIN:VCALENDAR

VERSION:2.0

PRODID:-//hacksw/handcal//NONSGML v1.0//EN

BEGIN:VEVENT

UID:5a9bcef14c397f84f3468fe3eb32ab6d

DTSTAMP:20180125T130403Z

DTSTART:20180128T130000

DTEND:20180128T133000

SUMMARY:17930448 - Hei Hei, 9 Bella Rosa Drive

LOCATION:Hei Hei, 9 Bella Rosa Drive

END:VEVENT

END:VCALENDAR