BEGIN:VCALENDAR

VERSION:2.0

PRODID:-//hacksw/handcal//NONSGML v1.0//EN

BEGIN:VEVENT

UID:dc485a42c495fab076a7bce54e0d7393

DTSTAMP:20180126T005559Z

DTSTART:20180128T140000

DTEND:20180128T143000

SUMMARY:17401546 - Avonhead, 10 Wardour Mews

LOCATION:Avonhead, 10 Wardour Mews

END:VEVENT

END:VCALENDAR