BEGIN:VCALENDAR

VERSION:2.0

PRODID:-//hacksw/handcal//NONSGML v1.0//EN

BEGIN:VEVENT

UID:ecda3b5d26249ef1e071e87bb6f270db

DTSTAMP:20181221T233238Z

DTSTART:20181223T130000

DTEND:20181223T133000

SUMMARY:20022825 - Avonhead, 48 Kent Lodge Avenue

LOCATION:Avonhead, 48 Kent Lodge Avenue

END:VEVENT

END:VCALENDAR